BEGIN:VCALENDAR
VERSION:2.0
PRODID:-//ChamberMaster//Event Calendar 2.0//EN
METHOD:PUBLISH
X-PUBLISHED-TTL:P1H
REFRESH-INTERVAL:P1H
CALSCALE:GREGORIAN
BEGIN:VTIMEZONE
TZID:America/New_York
BEGIN:DAYLIGHT
RRULE:FREQ=YEARLY;BYMONTH=3;BYDAY=2SU
DTSTART:20070101T000000
TZOFFSETFROM:-0500
TZOFFSETTO:-0400
TZNAME:Eastern Daylight Time
END:DAYLIGHT
BEGIN:STANDARD
RRULE:FREQ=YEARLY;BYMONTH=11;BYDAY=1SU
DTSTART:20070101T000000
TZOFFSETFROM:-0400
TZOFFSETTO:-0500
TZNAME:Eastern Standard Time
END:STANDARD
END:VTIMEZONE
BEGIN:VEVENT
DTSTART;TZID=America/New_York:20260430T110000
DTEND;TZID=America/New_York:20260430T120000
X-MICROSOFT-CDO-ALLDAYEVENT:FALSE
SUMMARY:04-30-26 Grand Opening & Ribbon Cutting of Northern Schuylkill CEBA by Downtown Shenandoah\, Inc.
DESCRIPTION:The Schuylkill Chamber of Commerce and Downtown Shenandoah Inc. (DSI) proudly invites you to celebrate the official grand opening and ribbon-cutting ceremony of the new Center for Education\, Business\, & Arts (CEBA) Building.\n\nThis milestone event represents a significant step forward in the revitalization of downtown Shenandoah and underscores DSI’s continued commitment to fostering economic growth\, supporting local businesses\, and creating vibrant community spaces.\n\nJoin us on Thursday\, April 30\, 2026\, at 11:00 AM at 115 N. Main Street\, Shenandoah\, PA\, as we commemorate this exciting addition to the community. Following the ceremony\, guests are invited to enjoy light refreshments provided by local restaurants and take part in guided tours of the facility.\n\nWe look forward to celebrating this important moment with you.
X-ALT-DESC;FMTTYPE=text/html:The Schuylkill Chamber of Commerce and Downtown Shenandoah Inc. (DSI) proudly invites you to celebrate the official grand opening and ribbon-cutting ceremony of the new Center for Education\, Business\, & Arts (CEBA) Building.\n\nThis milestone event represents a significant step forward in the revitalization of downtown Shenandoah and underscores DSI’s continued commitment to fostering economic growth\, supporting local businesses\, and creating vibrant community spaces.\n\nJoin us on Thursday\, April 30\, 2026\, at 11:00 AM at 115 N. Main Street\, Shenandoah\, PA\, as we commemorate this exciting addition to the community. Following the ceremony\, guests are invited to enjoy light refreshments provided by local restaurants and take part in guided tours of the facility.\n\nWe look forward to celebrating this important moment with you.
LOCATION:115 North Main Street Shenandoah 17976
UID:e.2686.1447036
SEQUENCE:3
DTSTAMP:20260420T181024Z
URL:https://business.schuylkillchamber.com/communitycalendar/Details/04-30-26-grand-opening-ribbon-cutting-of-northern-schuylkill-ceba-by-downtown-shenandoah-inc-1713858?sourceTypeId=Hub
END:VEVENT
END:VCALENDAR
